BEGIN:VCALENDAR
VERSION:2.0
PRODID:spatie/icalendar-generator
NAME:Réseau Transition : Ixelles en Transition - Général
X-WR-CALNAME:Réseau Transition : Ixelles en Transition - Général
DESCRIPTION:Ce groupe est créé pour les différentes initiatives de trans
 ition à Ixelles\, dont l'équipe \"Ixelles en Transition\"\, les groupes 
 qui veulent organiser des actions de végétalisations\, des réunions aut
 our de la Transition Intérieure\, des actions de sensibilisation/éducati
 on\, etc.
X-WR-CALDESC:Ce groupe est créé pour les différentes initiatives de tran
 sition à Ixelles\, dont l'équipe \"Ixelles en Transition\"\, les groupes
  qui veulent organiser des actions de végétalisations\, des réunions au
 tour de la Transition Intérieure\, des actions de sensibilisation/éducat
 ion\, etc.
BEGIN:VTIMEZONE
TZID:Europe/Brussels
BEGIN:STANDARD
DTSTART:20181028T030000
TZOFFSETFROM:+0200
TZOFFSETTO:+0100
END:STANDARD
BEGIN:DAYLIGHT
DTSTART:20190331T010000
TZOFFSETFROM:+0100
TZOFFSETTO:+0200
END:DAYLIGHT
BEGIN:STANDARD
DTSTART:20191027T030000
TZOFFSETFROM:+0200
TZOFFSETTO:+0100
END:STANDARD
END:VTIMEZONE
BEGIN:VTIMEZONE
TZID:UTC
BEGIN:STANDARD
DTSTART:20180823T115650
TZOFFSETFROM:+0000
TZOFFSETTO:+0000
END:STANDARD
END:VTIMEZONE
BEGIN:VEVENT
UID:Ixelles en Transition - Général-598
DTSTAMP:20190520T115650Z
SUMMARY:Bistro XL Transition 
DESCRIPTION:Plus de détails bientôt
LOCATION:Plus de détails bientôt
DTSTART;TZID=Europe/Brussels:20190624T183000
DTEND;TZID=Europe/Brussels:20190624T213000
END:VEVENT
END:VCALENDAR