BEGIN:VCALENDAR
VERSION:2.0
PRODID:spatie/icalendar-generator
NAME:Réseau Transition : Mettet-vous en Transition 
X-WR-CALNAME:Réseau Transition : Mettet-vous en Transition 
DESCRIPTION:Notre initiative a pour mission la mise en place d'une platefor
 me citoyenne afin de mobiliser les habitants de la commune de Mettet à ad
 hérer à des modes de vies plus durables et socialement acceptables en cu
 ltivant un esprit d'ouverture et de bienveillance dans l'action collective
 .  Il est fédérateur dans le sens où il a à coeur d'associer tous les
  acteurs et porteurs de projets locaux impliqués dans une démarche de tr
 ansition. 
X-WR-CALDESC:Notre initiative a pour mission la mise en place d'une platefo
 rme citoyenne afin de mobiliser les habitants de la commune de Mettet à a
 dhérer à des modes de vies plus durables et socialement acceptables en c
 ultivant un esprit d'ouverture et de bienveillance dans l'action collectiv
 e.  Il est fédérateur dans le sens où il a à coeur d'associer tous le
 s acteurs et porteurs de projets locaux impliqués dans une démarche de t
 ransition. 
BEGIN:VTIMEZONE
TZID:Europe/Brussels
BEGIN:STANDARD
DTSTART:20201025T030000
TZOFFSETFROM:+0200
TZOFFSETTO:+0100
END:STANDARD
BEGIN:DAYLIGHT
DTSTART:20210328T010000
TZOFFSETFROM:+0100
TZOFFSETTO:+0200
END:DAYLIGHT
BEGIN:STANDARD
DTSTART:20211031T030000
TZOFFSETFROM:+0200
TZOFFSETTO:+0100
END:STANDARD
BEGIN:DAYLIGHT
DTSTART:20220327T010000
TZOFFSETFROM:+0100
TZOFFSETTO:+0200
END:DAYLIGHT
END:VTIMEZONE
BEGIN:VTIMEZONE
TZID:UTC
BEGIN:STANDARD
DTSTART:20200620T144831
TZOFFSETFROM:+0000
TZOFFSETTO:+0000
END:STANDARD
END:VTIMEZONE
BEGIN:VEVENT
UID:Mettet-vous en Transition -1389
DTSTAMP:20220302T002403Z
SUMMARY:2ème journée de plantations au jardin forêt de Pontaury
DESCRIPTION:
LOCATION:Pontaury
DTSTART;TZID=Europe/Brussels:20220423T090000
DTEND;TZID=Europe/Brussels:20220423T100000
END:VEVENT
BEGIN:VEVENT
UID:Mettet-vous en Transition -1293
DTSTAMP:20210317T144831Z
SUMMARY:Potale de la sainte Famille
DESCRIPTION:
LOCATION:sentier 182 rue des bosseuses Scry 5640 Mettet
DTSTART;TZID=Europe/Brussels:20210317T154400
DTEND;TZID=Europe/Brussels:20210317T164400
END:VEVENT
END:VCALENDAR