BEGIN:VCALENDAR
VERSION:2.0
PRODID:spatie/icalendar-generator
NAME:Réseau Transition : Outils IT pour initiatives
X-WR-CALNAME:Réseau Transition : Outils IT pour initiatives
DESCRIPTION:Groupe de discussion liés aux outils informatiques mis à disp
 osition des initiatives.En particulier\, on discutera des projets\"L'essen
 tiel en Transition - le site\" http://si.reseautransition.be/AgoraBienven
 ue !
X-WR-CALDESC:Groupe de discussion liés aux outils informatiques mis à dis
 position des initiatives.En particulier\, on discutera des projets\"L'esse
 ntiel en Transition - le site\" http://si.reseautransition.be/AgoraBienve
 nue !
BEGIN:VTIMEZONE
TZID:Europe/Brussels
BEGIN:DAYLIGHT
DTSTART:20170326T010000
TZOFFSETFROM:+0100
TZOFFSETTO:+0200
END:DAYLIGHT
BEGIN:STANDARD
DTSTART:20171029T030000
TZOFFSETFROM:+0200
TZOFFSETTO:+0100
END:STANDARD
BEGIN:DAYLIGHT
DTSTART:20180325T010000
TZOFFSETFROM:+0100
TZOFFSETTO:+0200
END:DAYLIGHT
END:VTIMEZONE
BEGIN:VTIMEZONE
TZID:UTC
BEGIN:STANDARD
DTSTART:20170224T205222
TZOFFSETFROM:+0000
TZOFFSETTO:+0000
END:STANDARD
END:VTIMEZONE
BEGIN:VEVENT
UID:Outils IT pour initiatives-1
DTSTAMP:20171121T205222Z
SUMMARY:Réunion plénière de Fleurus en Transition
DESCRIPTION:Réunion des membres de Fleurus en Transition.Objectif : choix 
 des projets 2018
LOCATION:Fleurus\, Hôtel de ville
DTSTART;TZID=Europe/Brussels:20171123T194500
DTEND;TZID=Europe/Brussels:20171123T223000
END:VEVENT
END:VCALENDAR